BEGIN:VCALENDAR
VERSION:2.0
PRODID:-//Institute of National Planning - معهد التخطيط القومي - ECPv6.15.15//NONSGML v1.0//EN
CALSCALE:GREGORIAN
METHOD:PUBLISH
X-WR-CALNAME:Institute of National Planning - معهد التخطيط القومي
X-ORIGINAL-URL:https://inp.imholding.co
X-WR-CALDESC:Events for Institute of National Planning - معهد التخطيط القومي
REFRESH-INTERVAL;VALUE=DURATION:PT1H
X-Robots-Tag:noindex
X-PUBLISHED-TTL:PT1H
BEGIN:VTIMEZONE
TZID:Africa/Cairo
BEGIN:DAYLIGHT
TZOFFSETFROM:+0200
TZOFFSETTO:+0300
TZNAME:EEST
DTSTART:20240425T220000
END:DAYLIGHT
BEGIN:STANDARD
TZOFFSETFROM:+0300
TZOFFSETTO:+0200
TZNAME:EET
DTSTART:20241031T210000
END:STANDARD
BEGIN:DAYLIGHT
TZOFFSETFROM:+0200
TZOFFSETTO:+0300
TZNAME:EEST
DTSTART:20250424T220000
END:DAYLIGHT
BEGIN:STANDARD
TZOFFSETFROM:+0300
TZOFFSETTO:+0200
TZNAME:EET
DTSTART:20251030T210000
END:STANDARD
BEGIN:DAYLIGHT
TZOFFSETFROM:+0200
TZOFFSETTO:+0300
TZNAME:EEST
DTSTART:20260423T220000
END:DAYLIGHT
BEGIN:STANDARD
TZOFFSETFROM:+0300
TZOFFSETTO:+0200
TZNAME:EET
DTSTART:20261029T210000
END:STANDARD
END:VTIMEZONE
BEGIN:VEVENT
DTSTART;TZID=Africa/Cairo:20251202T110000
DTEND;TZID=Africa/Cairo:20251202T130000
DTSTAMP:20260425T150145
CREATED:20251216T090450Z
LAST-MODIFIED:20251216T090450Z
UID:10000014-1764673200-1764680400@inp.imholding.co
SUMMARY:المتابعات العلمية - حلقة رقم (3) بعنوان "نحو مدن ذكية تركز على الإنسان في ضوء تقرير "آفاق المدن الذكية عالميا 2024 الصادر عن برنامج الأمم المتحدة للمستوطنات البشرية UN-Habitat
DESCRIPTION:المتابعات العلمية – حلقة رقم (3) بعنوان “نحو مدن ذكية تركز على الإنسان في ضوء تقرير “آفاق المدن الذكية عالميا 2024 الصادر عن برنامج الأمم المتحدة\nللمستوطنات البشرية UN-Habitat – المتحدثة : د/ زينب الصادي – مدرج أ.د. محمد محمود الإمام – الساعة 11 ص.
URL:https://inp.imholding.co/calendar/%d8%a7%d9%84%d9%85%d8%aa%d8%a7%d8%a8%d8%b9%d8%a7%d8%aa-%d8%a7%d9%84%d8%b9%d9%84%d9%85%d9%8a%d8%a9-%d8%ad%d9%84%d9%82%d8%a9-%d8%b1%d9%82%d9%85-3-%d8%a8%d8%b9%d9%86%d9%88%d8%a7%d9%86-%d9%86%d8%ad/
LOCATION:Cairo
CATEGORIES:متابعات علميه
END:VEVENT
END:VCALENDAR