BEGIN:VCALENDAR
VERSION:2.0
PRODID:-//Institute of National Planning - معهد التخطيط القومي - ECPv6.15.15//NONSGML v1.0//EN
CALSCALE:GREGORIAN
METHOD:PUBLISH
X-WR-CALNAME:Institute of National Planning - معهد التخطيط القومي
X-ORIGINAL-URL:https://inp.imholding.co
X-WR-CALDESC:Events for Institute of National Planning - معهد التخطيط القومي
REFRESH-INTERVAL;VALUE=DURATION:PT1H
X-Robots-Tag:noindex
X-PUBLISHED-TTL:PT1H
BEGIN:VTIMEZONE
TZID:Africa/Cairo
BEGIN:DAYLIGHT
TZOFFSETFROM:+0200
TZOFFSETTO:+0300
TZNAME:EEST
DTSTART:20240425T220000
END:DAYLIGHT
BEGIN:STANDARD
TZOFFSETFROM:+0300
TZOFFSETTO:+0200
TZNAME:EET
DTSTART:20241031T210000
END:STANDARD
BEGIN:DAYLIGHT
TZOFFSETFROM:+0200
TZOFFSETTO:+0300
TZNAME:EEST
DTSTART:20250424T220000
END:DAYLIGHT
BEGIN:STANDARD
TZOFFSETFROM:+0300
TZOFFSETTO:+0200
TZNAME:EET
DTSTART:20251030T210000
END:STANDARD
BEGIN:DAYLIGHT
TZOFFSETFROM:+0200
TZOFFSETTO:+0300
TZNAME:EEST
DTSTART:20260423T220000
END:DAYLIGHT
BEGIN:STANDARD
TZOFFSETFROM:+0300
TZOFFSETTO:+0200
TZNAME:EET
DTSTART:20261029T210000
END:STANDARD
END:VTIMEZONE
BEGIN:VEVENT
DTSTART;TZID=Africa/Cairo:20251209T100000
DTEND;TZID=Africa/Cairo:20251209T130000
DTSTAMP:20260421T150513
CREATED:20251216T091259Z
LAST-MODIFIED:20251216T091505Z
UID:10000020-1765274400-1765285200@inp.imholding.co
SUMMARY:لقاء الخبراء - حلقة رقم (3) - بعنوان "سوق العمل المصري - الفجوة بين العرض والطلب بين التأثيرات التكنولوجية، الذكاء الاصطناعي، التحول الأخضر، التغيرات الديمغرافية وتوطين التنمية الاقتصادية في مصر
DESCRIPTION:لقاء الخبراء – حلقة رقم (3) – بعنوان “سوق العمل المصري – الفجوة بين العرض والطلب بين التأثيرات التكنولوجية، الذكاء الاصطناعي، التحول الأخضر، التغيرات الديمغرافية وتوطين التنمية الاقتصادية في مصر” – قاعة أ.د. كمال الجنزوري – الساعة 11 ص. الحضور بالدعوات فقط)
URL:https://inp.imholding.co/calendar/%d9%84%d9%82%d8%a7%d8%a1-%d8%a7%d9%84%d8%ae%d8%a8%d8%b1%d8%a7%d8%a1-%d8%ad%d9%84%d9%82%d8%a9-%d8%b1%d9%82%d9%85-3-%d8%a8%d8%b9%d9%86%d9%88%d8%a7%d9%86-%d8%b3%d9%88%d9%82-%d8%a7%d9%84%d8%b9/
LOCATION:Cairo
CATEGORIES:لقاء الخبراء
END:VEVENT
END:VCALENDAR