BEGIN:VCALENDAR
VERSION:2.0
PRODID:-//Institute of National Planning - معهد التخطيط القومي - ECPv6.15.15//NONSGML v1.0//EN
CALSCALE:GREGORIAN
METHOD:PUBLISH
X-WR-CALNAME:Institute of National Planning - معهد التخطيط القومي
X-ORIGINAL-URL:https://inp.imholding.co
X-WR-CALDESC:Events for Institute of National Planning - معهد التخطيط القومي
REFRESH-INTERVAL;VALUE=DURATION:PT1H
X-Robots-Tag:noindex
X-PUBLISHED-TTL:PT1H
BEGIN:VTIMEZONE
TZID:Africa/Cairo
BEGIN:DAYLIGHT
TZOFFSETFROM:+0200
TZOFFSETTO:+0300
TZNAME:EEST
DTSTART:20240425T220000
END:DAYLIGHT
BEGIN:STANDARD
TZOFFSETFROM:+0300
TZOFFSETTO:+0200
TZNAME:EET
DTSTART:20241031T210000
END:STANDARD
BEGIN:DAYLIGHT
TZOFFSETFROM:+0200
TZOFFSETTO:+0300
TZNAME:EEST
DTSTART:20250424T220000
END:DAYLIGHT
BEGIN:STANDARD
TZOFFSETFROM:+0300
TZOFFSETTO:+0200
TZNAME:EET
DTSTART:20251030T210000
END:STANDARD
BEGIN:DAYLIGHT
TZOFFSETFROM:+0200
TZOFFSETTO:+0300
TZNAME:EEST
DTSTART:20260423T220000
END:DAYLIGHT
BEGIN:STANDARD
TZOFFSETFROM:+0300
TZOFFSETTO:+0200
TZNAME:EET
DTSTART:20261029T210000
END:STANDARD
END:VTIMEZONE
BEGIN:VEVENT
DTSTART;TZID=Africa/Cairo:20251225T170000
DTEND;TZID=Africa/Cairo:20251225T193000
DTSTAMP:20260423T053034
CREATED:20251224T105430Z
LAST-MODIFIED:20251225T132154Z
UID:10000047-1766682000-1766691000@inp.imholding.co
SUMMARY:صالون معهد التخطيط القومي
DESCRIPTION:معالي الأستاذ أحمد كجوك وزير المالية \nبعنوان: “الحزمة الثانية من التسهيلات الضريبية – في إطار أولويات وأهداف السياسة المالية ما بعد 2025” \nالخميس 25 ديسمبر 2025 \nالساعة 5:00 مساءً (بتوقيت القاهرة) \nمعهد التخطيط القومي \nللتسجيل يرجى الدخول على  الرابط التالي: \nhttps://forms.gle/ko5N9Lxs8NwQ3WFe9
URL:https://inp.imholding.co/calendar/%d8%b5%d8%a7%d9%84%d9%88%d9%86-%d9%85%d8%b9%d9%87%d8%af-%d8%a7%d9%84%d8%aa%d8%ae%d8%b7%d9%8a%d8%b7-%d8%a7%d9%84%d9%82%d9%88%d9%85%d9%8a/
LOCATION:Institute of National Planning – معهد التخطيط القومي\, Institute of National Planning - معهد التخطيط القومي\, Cairo\, Cairo\, Egypt
CATEGORIES:صالون معهد التخطيط القومى
ATTACH;FMTTYPE=image/jpeg:https://inp.imholding.co/wp-content/uploads/2025/12/2025-12-21-صالون-الحزمة-الثانية-من-التسهيلات-الضريبية.jpeg
GEO:30.07990860994;31.317423855241
X-APPLE-STRUCTURED-LOCATION;VALUE=URI;X-ADDRESS=Institute of National Planning – معهد التخطيط القومي Institute of National Planning - معهد التخطيط القومي Cairo Cairo Egypt;X-APPLE-RADIUS=500;X-TITLE=Institute of National Planning - معهد التخطيط القومي:geo:31.317423855241,30.07990860994
END:VEVENT
END:VCALENDAR